BEGIN:VCALENDAR
VERSION:2.0
PRODID:-//Classic Rover Club Northern Ireland - ECPv5.16.3.1//NONSGML v1.0//EN
CALSCALE:GREGORIAN
METHOD:PUBLISH
X-WR-CALNAME:Classic Rover Club Northern Ireland
X-ORIGINAL-URL:http://classicroverclub.co.uk
X-WR-CALDESC:Events for Classic Rover Club Northern Ireland
BEGIN:VTIMEZONE
TZID:UTC
BEGIN:STANDARD
TZOFFSETFROM:+0000
TZOFFSETTO:+0000
TZNAME:UTC
DTSTART:20180101T000000
END:STANDARD
END:VTIMEZONE
BEGIN:VEVENT
DTSTART;TZID=UTC:20180923T110000
DTEND;TZID=UTC:20180923T170000
DTSTAMP:20260420T082017
CREATED:20180805T193407Z
LAST-MODIFIED:20180811T121806Z
UID:6985-1537700400-1537722000@classicroverclub.co.uk
SUMMARY:CRC (NI) Annual Treasure Hunt
DESCRIPTION:
URL:http://classicroverclub.co.uk/event/crc-ni-annual-treasure-hunt-2/
CATEGORIES:Club events
END:VEVENT
END:VCALENDAR